BEGIN:VCALENDAR
VERSION:2.0
PRODID:QBI UCSF
X-WR-CALNAME:CCMI Event
X-PUBLISHED-TTL:P1W
BEGIN:VEVENT
UID:01edee9511bb4d
DTSTART;VALUE=DATE:20211215
SEQUENCE:0
TRANSP:OPAQUE
DTEND;VALUE=DATE:20211215
SUMMARY:CCMI Software Series: GenePattern Notebooks
CLASS:PUBLIC
X-MICROSOFT-CDO-ALLDAYEVENT:TRUE
DTSTAMP:20260420T021352Z
END:VEVENT
END:VCALENDAR