BEGIN:VCALENDAR
VERSION:2.0
PRODID:QBI UCSF
X-WR-CALNAME:CCMI Event
X-PUBLISHED-TTL:P1W
BEGIN:VEVENT
UID:091101256a094d
DTSTART;VALUE=DATE:20220309
SEQUENCE:0
TRANSP:OPAQUE
DTEND;VALUE=DATE:20220311
SUMMARY:2022 CSBC West Coast Symposium
CLASS:PUBLIC
X-MICROSOFT-CDO-ALLDAYEVENT:TRUE
DTSTAMP:20260420T020956Z
END:VEVENT
END:VCALENDAR