BEGIN:VCALENDAR
VERSION:2.0
PRODID:QBI UCSF
X-WR-CALNAME:CCMI Event
X-PUBLISHED-TTL:P1W
BEGIN:VEVENT
UID:0bfe261819e744
DTSTART;VALUE=DATE:20180626
SEQUENCE:0
TRANSP:OPAQUE
DTEND;VALUE=DATE:20180626
SUMMARY:UCSF - Cytoscape Automation in R and Python for Bioinformaticians
CLASS:PUBLIC
X-MICROSOFT-CDO-ALLDAYEVENT:TRUE
DTSTAMP:20260420T021058Z
END:VEVENT
END:VCALENDAR