BEGIN:VCALENDAR
VERSION:2.0
PRODID:QBI UCSF
X-WR-CALNAME:CCMI Event
X-PUBLISHED-TTL:P1W
BEGIN:VEVENT
UID:13758f926dbe4b
DTSTART;VALUE=DATE:20180307
SEQUENCE:0
TRANSP:OPAQUE
DTEND;VALUE=DATE:20180307
SUMMARY:San Francisco STEM Career Day
CLASS:PUBLIC
X-MICROSOFT-CDO-ALLDAYEVENT:TRUE
DTSTAMP:20260420T010444Z
END:VEVENT
END:VCALENDAR