BEGIN:VCALENDAR
VERSION:2.0
PRODID:QBI UCSF
X-WR-CALNAME:CCMI Event
X-PUBLISHED-TTL:P1W
BEGIN:VEVENT
UID:27d51856f99243
DTSTART;VALUE=DATE:20181020
SEQUENCE:0
TRANSP:OPAQUE
DTEND;VALUE=DATE:20181020
SUMMARY:Taste for the Cure 2018: A Taste of Science
CLASS:PUBLIC
X-MICROSOFT-CDO-ALLDAYEVENT:TRUE
DTSTAMP:20260420T010525Z
END:VEVENT
END:VCALENDAR