BEGIN:VCALENDAR
VERSION:2.0
PRODID:QBI UCSF
X-WR-CALNAME:CCMI Event
X-PUBLISHED-TTL:P1W
BEGIN:VEVENT
UID:6265904e94e24f
DTSTART;VALUE=DATE:20211029
SEQUENCE:0
TRANSP:OPAQUE
DTEND;VALUE=DATE:20211029
SUMMARY:CCMI Software Series: UCSC Genome Browser Workshop
CLASS:PUBLIC
X-MICROSOFT-CDO-ALLDAYEVENT:TRUE
DTSTAMP:20260420T023112Z
END:VEVENT
END:VCALENDAR