BEGIN:VCALENDAR
VERSION:2.0
PRODID:QBI UCSF
X-WR-CALNAME:CCMI Event
X-PUBLISHED-TTL:P1W
BEGIN:VEVENT
UID:672698af0fb54a
DTSTART;VALUE=DATE:20211124
SEQUENCE:0
TRANSP:OPAQUE
DTEND;VALUE=DATE:20211124
SUMMARY:CCMI Software Series: The Human Protein Atlas
CLASS:PUBLIC
X-MICROSOFT-CDO-ALLDAYEVENT:TRUE
DTSTAMP:20260420T022816Z
END:VEVENT
END:VCALENDAR