BEGIN:VCALENDAR
VERSION:2.0
PRODID:QBI UCSF
X-WR-CALNAME:CCMI Event
X-PUBLISHED-TTL:P1W
BEGIN:VEVENT
UID:6b4602eb0b7b4b
DTSTART;VALUE=DATE:20200117
SEQUENCE:0
TRANSP:OPAQUE
DTEND;VALUE=DATE:20200117
SUMMARY:UC San Diego – 2020 Transcriptomics Data and Resources at EMBL-EB
 I
CLASS:PUBLIC
X-MICROSOFT-CDO-ALLDAYEVENT:TRUE
DTSTAMP:20260420T035741Z
END:VEVENT
END:VCALENDAR