BEGIN:VCALENDAR
VERSION:2.0
PRODID:QBI UCSF
X-WR-CALNAME:CCMI Event
X-PUBLISHED-TTL:P1W
BEGIN:VEVENT
UID:768ae40f852048
DTSTART;VALUE=DATE:20160927
SEQUENCE:0
TRANSP:OPAQUE
DTEND;VALUE=DATE:20160928
SUMMARY:Cancer Cell Map Workshop
CLASS:PUBLIC
X-MICROSOFT-CDO-ALLDAYEVENT:TRUE
DTSTAMP:20260420T053403Z
END:VEVENT
END:VCALENDAR