BEGIN:VCALENDAR
VERSION:2.0
PRODID:QBI UCSF
X-WR-CALNAME:CCMI Event
X-PUBLISHED-TTL:P1W
BEGIN:VEVENT
UID:79fc1388bfb844
DTSTART;VALUE=DATE:20171213
SEQUENCE:0
TRANSP:OPAQUE
DTEND;VALUE=DATE:20171213
SUMMARY:Elsevier in the Classroom: Pathway Studio
CLASS:PUBLIC
X-MICROSOFT-CDO-ALLDAYEVENT:TRUE
DTSTAMP:20260420T005616Z
END:VEVENT
END:VCALENDAR