BEGIN:VCALENDAR
VERSION:2.0
PRODID:QBI UCSF
X-WR-CALNAME:CCMI Event
X-PUBLISHED-TTL:P1W
BEGIN:VEVENT
UID:896520fbcff845
DTSTART;VALUE=DATE:20180605
SEQUENCE:0
TRANSP:OPAQUE
DTEND;VALUE=DATE:20180605
SUMMARY:UCSF - Introduction to Cytoscape and Network Biology for Beginners
CLASS:PUBLIC
X-MICROSOFT-CDO-ALLDAYEVENT:TRUE
DTSTAMP:20260420T005342Z
END:VEVENT
END:VCALENDAR