BEGIN:VCALENDAR
VERSION:2.0
PRODID:QBI UCSF
X-WR-CALNAME:CCMI Event
X-PUBLISHED-TTL:P1W
BEGIN:VEVENT
UID:9694bd0fd90444
DTSTART;VALUE=DATE:20220126
SEQUENCE:0
TRANSP:OPAQUE
DTEND;VALUE=DATE:20220126
SUMMARY:CCMI Software Series: Cytoscape
CLASS:PUBLIC
X-MICROSOFT-CDO-ALLDAYEVENT:TRUE
DTSTAMP:20260420T005922Z
END:VEVENT
END:VCALENDAR