BEGIN:VCALENDAR
VERSION:2.0
PRODID:QBI UCSF
X-WR-CALNAME:CCMI Event
X-PUBLISHED-TTL:P1W
BEGIN:VEVENT
UID:9bd43b16c44b4b
DTSTART;VALUE=DATE:20190214
SEQUENCE:0
TRANSP:OPAQUE
DTEND;VALUE=DATE:20190214
SUMMARY:UCSF - Introduction to Cytoscape and Network Biology
CLASS:PUBLIC
X-MICROSOFT-CDO-ALLDAYEVENT:TRUE
DTSTAMP:20260420T005911Z
END:VEVENT
END:VCALENDAR