BEGIN:VCALENDAR
VERSION:2.0
PRODID:QBI UCSF
X-WR-CALNAME:CCMI Event
X-PUBLISHED-TTL:P1W
BEGIN:VEVENT
UID:a32730c8549f4c
DTSTART;VALUE=DATE:20180208
SEQUENCE:0
TRANSP:OPAQUE
DTEND;VALUE=DATE:20180208
SUMMARY:MASS SPECTROMETRY SYMPOSIUM
CLASS:PUBLIC
X-MICROSOFT-CDO-ALLDAYEVENT:TRUE
DTSTAMP:20260420T005459Z
END:VEVENT
END:VCALENDAR