BEGIN:VCALENDAR
VERSION:2.0
PRODID:QBI UCSF
X-WR-CALNAME:CCMI Event
X-PUBLISHED-TTL:P1W
BEGIN:VEVENT
UID:a35b26a8d3d144
DTSTART;VALUE=DATE:20180111
SEQUENCE:0
TRANSP:OPAQUE
DTEND;VALUE=DATE:20180111
SUMMARY:UC San Diego – Ensembl Tutorial\n
CLASS:PUBLIC
X-MICROSOFT-CDO-ALLDAYEVENT:TRUE
DTSTAMP:20260420T010142Z
END:VEVENT
END:VCALENDAR