BEGIN:VCALENDAR
VERSION:2.0
PRODID:QBI UCSF
X-WR-CALNAME:CCMI Event
X-PUBLISHED-TTL:P1W
BEGIN:VEVENT
UID:a4bfe790048547
DTSTART;VALUE=DATE:20190306
SEQUENCE:0
TRANSP:OPAQUE
DTEND;VALUE=DATE:20190306
SUMMARY:UCSF\n – \nIntegrative Genomic Analysis with GenePattern
CLASS:PUBLIC
X-MICROSOFT-CDO-ALLDAYEVENT:TRUE
DTSTAMP:20260420T010255Z
END:VEVENT
END:VCALENDAR