BEGIN:VCALENDAR
VERSION:2.0
PRODID:QBI UCSF
X-WR-CALNAME:CCMI Event
X-PUBLISHED-TTL:P1W
BEGIN:VEVENT
UID:a94a510ae3ba49
DTSTART;VALUE=DATE:20210325
SEQUENCE:0
TRANSP:OPAQUE
DTEND;VALUE=DATE:20210325
SUMMARY:2021 CSBC West Coast Symposium
CLASS:PUBLIC
X-MICROSOFT-CDO-ALLDAYEVENT:TRUE
DTSTAMP:20260420T005847Z
END:VEVENT
END:VCALENDAR