BEGIN:VCALENDAR
VERSION:2.0
PRODID:QBI UCSF
X-WR-CALNAME:CCMI Event
X-PUBLISHED-TTL:P1W
BEGIN:VEVENT
UID:ab7a0163736340
DTSTART;VALUE=DATE:20190305
SEQUENCE:0
TRANSP:OPAQUE
DTEND;VALUE=DATE:20190305
SUMMARY:2019 San Francisco STEM Career Day
CLASS:PUBLIC
X-MICROSOFT-CDO-ALLDAYEVENT:TRUE
DTSTAMP:20260420T010320Z
END:VEVENT
END:VCALENDAR