BEGIN:VCALENDAR
VERSION:2.0
PRODID:QBI UCSF
X-WR-CALNAME:QBI Event
X-PUBLISHED-TTL:P1W
BEGIN:VEVENT
UID:b2761419e84f40
DTSTART;VALUE=DATE:20211027
SEQUENCE:0
TRANSP:OPAQUE
DTEND;VALUE=DATE:20211027
SUMMARY:Optimizing the Treatment of Breast Cancer to Empower Patients
CLASS:PUBLIC
X-MICROSOFT-CDO-ALLDAYEVENT:TRUE
DTSTAMP:20260420T010152Z
END:VEVENT
END:VCALENDAR