BEGIN:VCALENDAR
VERSION:2.0
PRODID:QBI UCSF
X-WR-CALNAME:CCMI Event
X-PUBLISHED-TTL:P1W
BEGIN:VEVENT
UID:c4911aa7c1ff49
DTSTART;VALUE=DATE:20191028
SEQUENCE:0
TRANSP:OPAQUE
DTEND;VALUE=DATE:20191028
SUMMARY:2019 Bay Area Science Festival: Cancer Cell Map Initiative Lab- Exp
 lorer Tour
CLASS:PUBLIC
X-MICROSOFT-CDO-ALLDAYEVENT:TRUE
DTSTAMP:20260420T010438Z
END:VEVENT
END:VCALENDAR