BEGIN:VCALENDAR
VERSION:2.0
PRODID:QBI UCSF
X-WR-CALNAME:CCMI Event
X-PUBLISHED-TTL:P1W
BEGIN:VEVENT
UID:c9cab2bc097d4c
DTSTART;VALUE=DATE:20191012
SEQUENCE:0
TRANSP:OPAQUE
DTEND;VALUE=DATE:20191012
SUMMARY:Taste for the Cure 2019: A Taste for Science
CLASS:PUBLIC
X-MICROSOFT-CDO-ALLDAYEVENT:TRUE
DTSTAMP:20260420T040647Z
END:VEVENT
END:VCALENDAR