BEGIN:VCALENDAR
VERSION:2.0
PRODID:QBI UCSF
X-WR-CALNAME:CCMI Event
X-PUBLISHED-TTL:P1W
BEGIN:VEVENT
UID:cab5f0c74d364e
DTSTART;VALUE=DATE:20251014
SEQUENCE:0
TRANSP:OPAQUE
DTEND;VALUE=DATE:20251014
SUMMARY:2025 CCMI EAC Meeting in San Diego
CLASS:PUBLIC
X-MICROSOFT-CDO-ALLDAYEVENT:TRUE
DTSTAMP:20260420T020924Z
END:VEVENT
END:VCALENDAR