BEGIN:VCALENDAR
VERSION:2.0
PRODID:QBI UCSF
X-WR-CALNAME:CCMI Event
X-PUBLISHED-TTL:P1W
BEGIN:VEVENT
UID:d53212287f1041
DTSTART;VALUE=DATE:20190219
SEQUENCE:0
TRANSP:OPAQUE
DTEND;VALUE=DATE:20190219
SUMMARY:QBI MASS SPECTROMETRY SYMPOSIUM 
CLASS:PUBLIC
X-MICROSOFT-CDO-ALLDAYEVENT:TRUE
DTSTAMP:20260420T010413Z
END:VEVENT
END:VCALENDAR