BEGIN:VCALENDAR
VERSION:2.0
PRODID:QBI UCSF
X-WR-CALNAME:CCMI Event
X-PUBLISHED-TTL:P1W
BEGIN:VEVENT
UID:e0baed3d59f94e
DTSTART;VALUE=DATE:20260514
SEQUENCE:0
TRANSP:OPAQUE
DTEND;VALUE=DATE:20260514
SUMMARY:Visualizing and Analyzing Data With Networks and the Cytoscape Soft
 ware Ecosystem
CLASS:PUBLIC
X-MICROSOFT-CDO-ALLDAYEVENT:TRUE
DTSTAMP:20260420T021826Z
END:VEVENT
END:VCALENDAR